BEGIN:VCALENDAR
VERSION:2.0
PRODID:-//AudioTheme 1.7.1
BEGIN:VEVENT
UID:http://www.lunazegers.com/?post_type=audiotheme_gig&#038;p=2708
URL:https://www.lunazegers.com/es/shows/lorca-licht-en-duister/
DTSTART;TZID=GMT:20250315T000000
SUMMARY:Lorca - Entre Luz y Oscuridad / con baile
DESCRIPTION:La nueva obra de teatro de narración musical de Luna sobre Luz y Oscuridad
LOCATION:Theater Kielzog\, Gorecht-Oost 157\, Hoogezand
END:VEVENT
END:VCALENDAR