BEGIN:VCALENDAR
VERSION:2.0
PRODID:-//AudioTheme 1.7.1
BEGIN:VEVENT
UID:http://www.lunazegers.com/?post_type=audiotheme_gig&#038;p=2671
URL:https://www.lunazegers.com/es/shows/2024-04-26/
DTSTART;TZID=GMT:20240426T000000
SUMMARY:Lorca - Entre Luz y Oscuridad
DESCRIPTION:El nuevo programa de teatro de Luna sobre Luz y Oscuridad
LOCATION:Theater Ludens\, Burg. Feithplein 95\, Voorburg
END:VEVENT
END:VCALENDAR