BEGIN:VCALENDAR
VERSION:2.0
PRODID:-//AudioTheme 1.7.1
BEGIN:VEVENT
UID:http://www.lunazegers.com/?post_type=audiotheme_gig&#038;p=2706
URL:https://www.lunazegers.com/es/shows/2024-04-21/
DTSTART;TZID=GMT:20240421T000000
SUMMARY:Lorca - Entre Luz y Oscuridad
DESCRIPTION:La nueva obra de teatro de narración musical de Luna sobre Luz y Oscuridad
LOCATION:Kapel der Lazaristen\, Kerkstraat 8\, Panningen
END:VEVENT
END:VCALENDAR