BEGIN:VCALENDAR
VERSION:2.0
PRODID:-//AudioTheme 1.7.1
BEGIN:VEVENT
UID:http://www.lunazegers.com/?post_type=audiotheme_gig&#038;p=2708
URL:https://www.lunazegers.com/en/shows/lorca-licht-en-duister/
DTSTART;TZID=GMT:20250315T000000
SUMMARY:Lorca - Between Light and Darkness / with dancer
DESCRIPTION:Luna's new musical theatre story about Light and Darkness
LOCATION:Theater Kielzog\, Gorecht-Oost 157\, Hoogezand
END:VEVENT
END:VCALENDAR