BEGIN:VCALENDAR
VERSION:2.0
PRODID:-//AudioTheme 1.7.1
BEGIN:VEVENT
UID:http://www.lunazegers.com/?post_type=audiotheme_gig&#038;p=2615
URL:https://www.lunazegers.com/en/shows/entre-dos-mundos-performance-with-symphony-orchestra/
DTSTART;TZID=GMT:20220922T000000
SUMMARY:Entre Dos Mundos in performance with symphony orchestra
DESCRIPTION:Luna sings her 'Entre Dos Mundos'\, this time arranged for symphony orchestra. More information soon.
LOCATION:Harddraverij\, Lisse
END:VEVENT
END:VCALENDAR