BEGIN:VCALENDAR
VERSION:2.0
PRODID:-//AudioTheme 1.7.1
BEGIN:VEVENT
UID:http://www.lunazegers.com/?post_type=audiotheme_gig&#038;p=1283
URL:https://www.lunazegers.com/en/shows/english-jaleando-workshop/
DTSTART;TZID=GMT:20160206T000000
SUMMARY:Jaleando - workshop
DESCRIPTION:Workshop "Jaleando" with singer Luna Zegers\, dancer Lucero Cárdenas and guitarist Jero Férec\, teaching about bulerías and tangos flamencos
LOCATION:Flamenco Barcelona\, Carrer Progrés 38 (Gràcia)
END:VEVENT
END:VCALENDAR