BEGIN:VCALENDAR
VERSION:2.0
PRODID:-//AudioTheme 1.7.1
BEGIN:VEVENT
UID:http://www.lunazegers.com/?post_type=audiotheme_gig&#038;p=2299
URL:https://www.lunazegers.com/en/shows/2017-11-30/
DTSTART;TZID=GMT:20171130T000000
SUMMARY:Book presentation "SOLO"
DESCRIPTION:Presentation of Luna's first book "SOLO"\, with live singing & guitar by Luna & Vicente Santiago
LOCATION:Boekhandel Scheltema\, Rokin 9\, Amsterdam
END:VEVENT
END:VCALENDAR